1.00000000
0.00000000
0.00000000
-1.00000000
632244.0000
9004506.0000
