1.00000000
0.00000000
0.00000000
-1.00000000
579009.0000
9032680.0000
