1.00000000
0.00000000
0.00000000
-1.00000000
633683.0000
8997142.0000
