1.00000000
0.00000000
0.00000000
-1.00000000
627928.0000
8997142.0000
