1.00000000
0.00000000
0.00000000
-1.00000000
622173.0000
9016779.0000
