1.00000000
0.00000000
0.00000000
-1.00000000
620734.0000
9004506.0000
