1.00000000
0.00000000
0.00000000
-1.00000000
616418.0000
9016779.0000
