1.00000000
0.00000000
0.00000000
-1.00000000
576131.0000
9030225.0000
