1.00000000
0.00000000
0.00000000
-1.00000000
610662.0000
9021689.0000
