1.00000000
0.00000000
0.00000000
-1.00000000
604907.0000
9006961.0000
