1.00000000
0.00000000
0.00000000
-1.00000000
573254.0000
9037590.0000
