1.00000000
0.00000000
0.00000000
-1.00000000
600591.0000
9026598.0000
