1.00000000
0.00000000
0.00000000
-1.00000000
600591.0000
9024144.0000
