1.00000000
0.00000000
0.00000000
-1.00000000
597713.0000
9029053.0000
