1.00000000
0.00000000
0.00000000
-1.00000000
564621.0000
9041208.0000
