0.00000904209837536
0
0
-0.00000904209837536
-62.41267277752266
-8.62831442118177
