50.0000000000
0.0000000000
0.0000000000
-50.0000000000
582595.8780702697
9030227.6064028088
