1.00000000
0.00000000
0.00000000
-1.00000000
570376.0000
9044954.0000
