0.25
0
0
-0.25
599152.5
9014324.25
