30
0
0
-30
518700
-843000
