3.789122629
0
0
-3.789122629
596202.35359
9009119.47195
