29.982066852
0
0
-29.982066852
511428.16229
9139721.13803
