0.0002777775
0.0000000000
0.0000000000
-0.0002777775
-62.9998611112
-10.0001388888
