0.0002777778
0.0000000000
0.0000000000
-0.0002777778
-61.4998611111
-8.0001388889
