0.4000000000
0.0000000000
0.0000000000
-0.4000000000
587480.0000000000
8959020.0000000000
