0.4000000000
0.0000000000
0.0000000000
-0.4000000000
583480.0000000000
8961520.0000000000
