0.4000000000
0.0000000000
0.0000000000
-0.4000000000
575480.0000000000
8976520.0000000000
