0.4000000000
0.0000000000
0.0000000000
-0.4000000000
571480.0000000000
8986520.0000000000
