30.00000000000000
0.00000000000000
0.00000000000000
-30.00000000000000
603435.85249299998000
7677503.58914600030000
