30.00000000000000
0.00000000000000
0.00000000000000
-30.00000000000000
555596.66947928211000
9006630.79319810870000
