0.5
0
0
-0.5
251627.16646
8923255.18976
