0.5
0
0
-0.5
241627.16646
8923255.18976
