0.5
0
0
-0.5
246627.16646
8928255.18976
