0.5
0
0
-0.5
241627.16646
8928255.18976
