0.5
0
0
-0.5
236627.16646
8928255.18976
