0.5
0
0
-0.5
266627.16646
8933255.18976
