0.5
0
0
-0.5
256627.16646
8933255.18976
