0.5
0
0
-0.5
281627.16646
8938255.18976
