0.5
0
0
-0.5
296627.16646
8943255.18976
