0.5
0
0
-0.5
291627.16646
8943255.18976
