0.5
0
0
-0.5
306627.16646
8953255.18976
