0.5
0
0
-0.5
301627.16646
8953255.18976
