0.5
0
0
-0.5
306627.16646
8958255.18976
