0.5
0
0
-0.5
316627.16646
8968255.18976
