0.5
0
0
-0.5
311627.16646
8968255.18976
