0.5
0
0
-0.5
316627.16646
8973255.18976
