0.5
0
0
-0.5
336627.16646
8978255.18976
