0.5
0
0
-0.5
331627.16646
8978255.18976
