0.3
0
0
-0.3
238432.28198
8928543.96119
