0.3
0
0
-0.3
238382.31299
8928516.12747
